BEGIN:VCALENDAR
VERSION:2.0
PRODID:-//Rebelution Yoga + Wellness - ECPv6.15.20//NONSGML v1.0//EN
CALSCALE:GREGORIAN
METHOD:PUBLISH
X-WR-CALNAME:Rebelution Yoga + Wellness
X-ORIGINAL-URL:https://rebelutionyoga.com
X-WR-CALDESC:Events for Rebelution Yoga + Wellness
REFRESH-INTERVAL;VALUE=DURATION:PT1H
X-Robots-Tag:noindex
X-PUBLISHED-TTL:PT1H
BEGIN:VTIMEZONE
TZID:America/Denver
BEGIN:DAYLIGHT
TZOFFSETFROM:-0700
TZOFFSETTO:-0600
TZNAME:MDT
DTSTART:20250309T090000
END:DAYLIGHT
BEGIN:STANDARD
TZOFFSETFROM:-0600
TZOFFSETTO:-0700
TZNAME:MST
DTSTART:20251102T080000
END:STANDARD
BEGIN:DAYLIGHT
TZOFFSETFROM:-0700
TZOFFSETTO:-0600
TZNAME:MDT
DTSTART:20260308T090000
END:DAYLIGHT
BEGIN:STANDARD
TZOFFSETFROM:-0600
TZOFFSETTO:-0700
TZNAME:MST
DTSTART:20261101T080000
END:STANDARD
BEGIN:DAYLIGHT
TZOFFSETFROM:-0700
TZOFFSETTO:-0600
TZNAME:MDT
DTSTART:20270314T090000
END:DAYLIGHT
BEGIN:STANDARD
TZOFFSETFROM:-0600
TZOFFSETTO:-0700
TZNAME:MST
DTSTART:20271107T080000
END:STANDARD
BEGIN:DAYLIGHT
TZOFFSETFROM:-0700
TZOFFSETTO:-0600
TZNAME:MDT
DTSTART:20280312T090000
END:DAYLIGHT
BEGIN:STANDARD
TZOFFSETFROM:-0600
TZOFFSETTO:-0700
TZNAME:MST
DTSTART:20281105T080000
END:STANDARD
END:VTIMEZONE
BEGIN:VEVENT
DTSTART;VALUE=DATE:20260101
DTEND;VALUE=DATE:20270102
DTSTAMP:20260423T070858
CREATED:20250919T014614Z
LAST-MODIFIED:20260121T185005Z
UID:18898-1767225600-1798847999@rebelutionyoga.com
SUMMARY:Rebel Coffee Hour
DESCRIPTION:Hello Rebels! On the first Sunday of every month\, following Mobility + Meditation at Nutritious Movement\, you are invited to walk over to Hurricane Coffee for commUNITY conversation. \nThis is your chance to: \n💬 Connect with kindred spirits\n☕ Share ideas\, inspiration\, and stories\n🌱 Recharge your mind as well as your body \nSo bring your curiosity and let’s turn that post-practice glow into real connection. Hope to see you there!
URL:https://rebelutionyoga.com/event/rebel-coffee-hour/
LOCATION:Hurricane Coffee\, 104 W Washington St\, Sequim\, WA\, 98382\, United States
ATTACH;FMTTYPE=image/avif:https://rebelutionyoga.com/wp-content/uploads/2025/09/coffee.avif
ORGANIZER;CN="Heather Sky":MAILTO:rebelution.yoga@gmail.com
END:VEVENT
BEGIN:VEVENT
DTSTART;VALUE=DATE:20260101
DTEND;VALUE=DATE:20270102
DTSTAMP:20260423T070858
CREATED:20251029T204252Z
LAST-MODIFIED:20260121T185103Z
UID:18940-1767225600-1798847999@rebelutionyoga.com
SUMMARY:Council for Yoga Communities
DESCRIPTION:Build trust. Deepen connection. Strengthen your teaching culture.\nWhat it is \nWay of Council is a simple yet profound circle practice that teaches communities to listen from the heart\, speak with intention\, and hold space for open and authentic dialogue. It’s the missing link between yoga philosophy and how we actually show up together—in the classroom\, in training\, and in community. \nWhy it matters \nWhen teachers and students feel heard\, everything changes. Council strengthens communication\, and creates the foundation for a more organic and inclusive studio culture. \n\nSupports team harmony and retention\nDeepens community belonging\nBuilds skills for feedback\, repair\, and group care\nFosters the same presence we teach on the mat\n\nPerfect for \n\nAll-level Teacher Trainings\nStudio staff development & retreats\nLeadership or mentorship circles\n\nFormat Options \n\nIntro Session (90 min) – experiential overview\nHalf Day Training (3 hrs) – skill-building + integration\nFull Day Intensive (6 hrs) – deep dive for staff or trainees\nMulti-Week Series – ongoing community practice (May take place partially in-person and partially through zoom\, depending on yoga studio and/or yoga school location. Reach out to discuss options).\n\nInvestment \nBased on format and location (will travel nationwide). Sliding scale & custom packages available. \nReady to set yourself apart\, and bring Council to your wellness community?\nNow accepting inquiries for 2026 yoga schools and wellness programs. \n📩 Email: rebelution.yoga@gmail.com 
URL:https://rebelutionyoga.com/event/council-for-yoga-communities/
ATTACH;FMTTYPE=image/png:https://rebelutionyoga.com/wp-content/uploads/2025/10/circle.png
END:VEVENT
BEGIN:VEVENT
DTSTART;TZID=America/Denver:20260112T080000
DTEND;TZID=America/Denver:20261219T170000
DTSTAMP:20260423T070858
CREATED:20260113T050328Z
LAST-MODIFIED:20260128T000736Z
UID:19061-1768204800-1797699600@rebelutionyoga.com
SUMMARY:The Accountability Container
DESCRIPTION:A year of private sessions to support meaningful growth—on your terms.\nOver the course of a year\, we can work with anything that wants your attention—personal\, professional\, relational\, emotional\, somatic\, or spiritual. This container is intentionally spacious\, because your growth can’t be boxed in. \nWhat we can work with…\n\nclarifying your intentions and goals (both long-term and short-term)\nnervous system regulation through yoga\, breathwork\, and somatic practices\nmeditation and contemplative practices that support clarity and presence\nshadow work and pattern awareness—held and supported with with care\nparadigm shifts around limiting beliefs\, productivity\, worth\, and/or success\nrebuilding trust with your body\, your rhythm\, or your inner compass\nlifestyle changes that align with your values\ncreative or vocational transitions\n\nSome months will feel reflective.Others may feel more practical and focused.We follow what feels most alive—without losing continuity. \nThe container…\nEach month\, we return to what matters to you\, what’s been easy to sustain\, and what’s asking for more care. \nWe notice what’s unfolding naturally\, what’s felt resistant or slow\, and where patience is needed instead of pressure. Intentions can evolve as you do. This isn’t about perfection. It’s about staying\, even when things shift. \nMy role…\nI’m not here to tell you who to become. \nI’m here to witness your process honestly\, reflect patterns you may not see on your own\, offer grounded tools when support is needed\, and help translate insight into lived practice. \nYou don’t have to remember everything by yourself.I will remind you what you’re tending to when life gets loud. \nWhy a year…\nBecause real change isn’t linear. It’s lived\, layered\, and ongoing. \nA year allows for seasons of momentum and seasons of rest\, setbacks that don’t derail the whole arc\, and growth that lives in your body and your days. \nThis container isn’t about urgency.There’s already enough of that in the world.It’s about staying\, even when things shift. \nThe invitation…\nIf you want a place where all of you is welcome—your ambition and your exhaustion\, your clarity and your uncertainty—this container offers a soft place to land. \nOne session at a time.One honest check-in each month.A year of choosing to stay in relationship with yourself. \nLimited availability.\n$888 for 12 monthly sessions.\nCan pay in quarterly installments.\nAVAILABLE ONLINE OR IN-PERSON.
URL:https://rebelutionyoga.com/event/the-accountability-container/
ATTACH;FMTTYPE=image/jpeg:https://rebelutionyoga.com/wp-content/uploads/2026/01/26208f6398ce49a5027e9a1f19c30966.jpeg
END:VEVENT
BEGIN:VEVENT
DTSTART;VALUE=DATE:20260528
DTEND;VALUE=DATE:20260601
DTSTAMP:20260423T070858
CREATED:20260202T185355Z
LAST-MODIFIED:20260422T211739Z
UID:19151-1779926400-1780271999@rebelutionyoga.com
SUMMARY:Earth Sisters: Re-membering Our Place in Great Nature
DESCRIPTION:An Earth Sister Nature Retreat on the Olympic Peninsula \nAs Earth Sisters\, we gather not to escape the world but to root into it. To remember that belonging is something we practice. That resilience grows in community. That our nervous systems settle when we are in right relationship with land\, with each other\, and with ourselves. \nOur time together unfolds in the forests\, coastlines\, and wild edges of Olympic National Park and the surrounding Olympic Peninsula. This region is widely known for its beauty and ecological richness\, and it also carries the marks of human presence\, including trails\, roads\, boundaries\, and layered histories of extraction\, protection\, and care. We spend time within it\, slowing down enough to notice the patterns all around us\, and remember that we are part of the living world around us. \nEarth Sisters offers space to explore the natural world as it is\, rather than as we wish it to be\, and to remember what it feels like to be part of Great Nature. By orienting to place and spending intentional time outside\, we begin to soften the sense of separation many of us carry\, not by bypassing complexity\, but by meeting it with presence. \nTogether\, we will practice asking permission\, listening deeply\, and getting to know our non-human neighbors (flora and fauna\, water and wind) within landscapes that hold both wildness and human influence. Through guided nature immersion\, gentle movement\, Council practice\, and spacious solo time\, the land becomes something we can learn from and relate to. \nThis retreat is for women who feel called to slow down and reconnect with themselves\, with each other\, and with the living world around them in all of its beauty and complexity. If you’ve been moving through life on autopilot\, feeling a little disconnected\, or craving something more real\, this is a space to come back to what matters. \nThis retreat includes: \n\nGuided immersion in forest\, coastal\, and wild spaces.\nTime for solitude\, rest\, and unstructured wandering.\nPractices for listening\, attunement\, and reciprocal relationship with the land.\nCouncil circles for reflection\, integration\, and shared witnessing.\nThoughtful exploration of Olympic National Park and surrounding areas.\nGentle movement\, breathwork\, and grounding practices to support nervous system regulation.\n\nDATES: May 28-31\, 2026 \nLOCATION: Port Angeles\, WA\nINVESTMENT: $499-$999\nCome solo or bring your people—either way\, this is a weekend event you don’t want to miss.\nSpace is very limited\, so please register ASAP. We hate having to turn participants away!\n\nLocals Option (no accommodations).   \n\n$499 per person.\n\nCar Camping \n\n$599 per person.\n\nForest Tent Sites.  \n\n$699 single occupancy.\n$599 double occupancy\, must provide your own tent-mate.\n\nCabins. \n\n$999 single occupancy (king size bed).\n$899 double occupancy\, must provide your own roommate.\n\nWhat IS included: \n\nDaily yoga + ecotherapy practices\nOlympic National Park Adventures\n3 breakfasts + 3 lunches\n3 days/3 nights accommodation\nSpecial Event + Wellness Experience(s)\nRound trip transportation to/from the Seattle airport (if needed).\n\nWhat is NOT included: \n\nIncidentals\nTravel expenses\nTravel Insurance\nDinners and adult bevvies (we will likely be eating dinners out on the town\, which is why we try to maintain very reasonable price points\, so please be prepared for this added expense).\nOptional activities: Included but not limited to paddleboard rental\, excursions to town\, wine tastings at one of our many local wineries and/or wine bars\, etc. I highly recommend planning extra time to explore the area!\n\n*Practices will be held outdoors\, when possible\, so please bring a yoga mat and props you are willing to put down on the earth. It is chilly this time of year\, so we recommend lots of comfy layers\, as we will be spending a lot of time outdoors. \nRebelution Wellness is a safe and inclusive space. We welcome everyone regardless of race\, sex\,\nsexuality\, and religion. All who identify as women are invited to attend this retreat.\nI am you\, you are me\, we are one. WelcOMe to the Rebelution.
URL:https://rebelutionyoga.com/event/earth-sisters-re-membering-our-place-in-great-nature/
ATTACH;FMTTYPE=image/jpeg:https://rebelutionyoga.com/wp-content/uploads/2026/02/beach.jpeg
END:VEVENT
BEGIN:VEVENT
DTSTART;VALUE=DATE:20260716
DTEND;VALUE=DATE:20260720
DTSTAMP:20260423T070858
CREATED:20260128T004747Z
LAST-MODIFIED:20260202T190407Z
UID:19138-1784160000-1784505599@rebelutionyoga.com
SUMMARY:At the Threshold: A Wilderness Retreat for Mothers and Daughters
DESCRIPTION:There comes a moment when a daughter is no longer a child—and not yet fully an adult.A moment when a mother feels the relationship begin to change\, even if the words for it haven’t arrived yet. \nThis retreat is an invitation to meet that moment together. \nDesigned for mothers and daughters (approximately ages 16–19)\, At the Threshold is a shared backpacking journey rooted in preparation\, responsibility\, and relationship. We will plan the journey together\, carry what we need together\, and move through the landscape at an intentional pace—learning what it means to share the weight\, both literally and figuratively—as we invite our daughters to cross the threshold into adulthood. \nIn many cultures\, transitions into adulthood were witnessed and marked. Elders modeled maturity through presence and action\, and young people were welcomed forward with clarity and care. While we no longer live inside those structures\, the need for them is more relevant than ever. \nDuring our time together\, we’ll move between intention and ease—spending time in thoughtful conversation\, shared reflection\, and quiet presence in the natural world—as well as laughing\, resting\, and playing in community. Some moments will invite witnessing and marking change\, while others will simply invite being together without an agenda. \nThrough this balance\, daughters are supported in stepping into a new season of responsibility and self-trust\, held by their mothers\, the community as a whole\, and the steady presence of the land. \nOur days together will include: \n\nBackpacking and shared trail time (beginner level)\nPreparing\, packing\, and distributing weight as a team\nNature-based practices\, rituals\, and ceremonies\nCouncil-style circles\, rooted in sharing and listening\nTime for rest\, quiet integration\, and presence\n\nNo prior backpacking experience is required\, as the journey to and from our destination will be brief—only a willingness to prepare thoughtfully and engage with the symbolism of the experience with care. \nThis journey is not about pushing\, fixing\, or rushing growth.It is about slowing down long enough to witness change as it happens. \nIf you and your daughter find yourselves standing at the edge of something new\, you are warmly invited to step forward—together. I am so looking forward to holding this container\, and honored to witness this passage\, for both of you. \nDATES: July 16-19th\, 2026\nLOCATION: Port Angeles\, WA\nINVESTMENT: $999 (total for 2)\n \nWhat IS included: \n\nGuided backpacking journey\nDaily yoga + wellness practices\nIntentional and unstructured time in nature\nOne dinner and one breakfast (before departure)\nBackcountry permits and bear canister for food storage\nOpportunities for laughter\, play\, and connection in community\nRound trip transportation to/from the Seattle airport (if needed).\n\nWhat is NOT included: \n\nIncidentals\nTravel expenses\nTravel Insurance\nBackpacking gear (tent\, pads\, sleeping bags\, etc)\nBackpacking meals and water (although we will likely eat lunch out on the town\, following our departure from the backpacking site\, so please be prepared for this added expense on the last day).\n\n*Practices will be held outdoors\, so please bring a lightweight yoga mat\, towel\, and/or other props you are willing to put down on the earth. We also ask that you register in advance\, because permits are limited. \nRebelution Wellness is a safe and inclusive space. We welcome everyone regardless of race\, sex\,\nsexuality\, and religion. I am you\, you are me\, we are one. WelcOMe to the Rebelution. \n 
URL:https://rebelutionyoga.com/event/at-the-threshold-a-wilderness-retreat-for-mothers-and-daughters/
ATTACH;FMTTYPE=image/jpeg:https://rebelutionyoga.com/wp-content/uploads/2026/01/momandart.jpeg
END:VEVENT
BEGIN:VEVENT
DTSTART;VALUE=DATE:20260813
DTEND;VALUE=DATE:20260817
DTSTAMP:20260423T070858
CREATED:20250418T020015Z
LAST-MODIFIED:20260305T035509Z
UID:3872-1786579200-1786924799@rebelutionyoga.com
SUMMARY:Yoga Summer Camp for Grown-ups
DESCRIPTION:Back by popular demand:\nYoga Summer Camp for Grown-Ups 2026\nLast year was such a blast\, we’re doing it again! \nYou’re invited to the PNW’s premiere all-inclusive summer camp for adults. Send off summer on the Olympic Peninsula at Rebelution Yoga + Wellness’ 8.5-acre retreat property\, surrounded by fresh ocean air\, old growth forest\, and sweeping PNW views. Expect a laid-back weekend of learning\, outdoor adventures\, good food\, better company\, and the kind of campout energy most of us haven’t felt in years. \nDATES: August 13th-16th\, 2026\nLOCATION: Port Angeles\, WA\nINVESTMENT: $399-$999\nCome solo or bring your people—either way\, this is a weekend event you don’t want to miss.\nSpace is very limited\, so please register ASAP. We hate having to turn participants away!\n\nLocals Option (no accommodations).   \n\n$399 per person.\n\nCar Camping \n\n$499 per person.\n\nForest Tent Sites.  \n\n$599 single occupancy.\n$499 double occupancy\, must provide your own tent-mate.\n\nCabins. \n\n$999 single occupancy (king size bed).\n$799 double occupancy\, must provide your own roommate.\n\nWhat IS included: \n\nDaily yoga practices\nPeninsula Adventures\n3 breakfasts + 3 lunches\n3 days/3 nights accommodation\nSpecial Event + Wellness Experience(s)\nRound trip transportation to/from the Seattle airport (if needed).\n\nWhat is NOT included: \n\nIncidentals\nTravel expenses\nTravel Insurance\nDinners and adult bevvies (we will likely be eating dinners out on the town\, which is why we try to maintain very reasonable price points\, so please be prepared for this added expense).\nOptional activities: Included but not limited to paddleboard rental\, excursions to town\, wine tastings at one of our many local wineries and/or wine bars\, etc. I highly recommend planning extra time to explore the area!\n\n*Practices will be held outdoors\, so please bring a yoga mat and props you are willing to put down on the earth. Although various options and modifications will be provided\, yoga summer camp is meant to challenge you\, so we highly recommend all attendees consider themselves experienced-beginners or above. \nRebelution Wellness is a safe and inclusive space. We welcome everyone regardless of race\, sex\,\nsexuality\, and religion. I am you\, you are me\, we are one. WelcOMe to the Rebelution.
URL:https://rebelutionyoga.com/event/2025-yoga-summer-camp/
LOCATION:Rebelution Yoga + Wellness\, Port Angeles\, WA\, United States
ATTACH;FMTTYPE=image/jpeg:https://rebelutionyoga.com/wp-content/uploads/2025/04/35f9bc74-d362-48d3-aad9-2f8bea22cdbd.jpeg
ORGANIZER;CN="Heather Sky":MAILTO:rebelution.yoga@gmail.com
END:VEVENT
BEGIN:VEVENT
DTSTART;VALUE=DATE:20260924
DTEND;VALUE=DATE:20260928
DTSTAMP:20260423T070858
CREATED:20260121T173531Z
LAST-MODIFIED:20260307T165828Z
UID:19100-1790208000-1790553599@rebelutionyoga.com
SUMMARY:Belonging: A Queer Retreat
DESCRIPTION:The Queer Belonging Retreat is an immersive experience designed for LGBTQIA2S+ folx who are seeking rest\, reconnection\, and a felt sense of coming home to yourself. This retreat is not about fixing or striving. It is about softening the effort of belonging and remembering what it feels like to be held as you are. \nWe will gather on the Olympic Peninsula at Rebelution Yoga + Wellness’ 8.5-acre eco-retreat-in-the-making\, surrounded by forest\, open sky\, ocean air\, and breathtaking views of the Olympic Mountains. Here\, the land is not a backdrop\, but a co-facilitator—offering steadiness\, perspective\, and belonging without labels or conditions. \nOver three days and three nights\, we will move at a spacious\, intentional pace. Our time together will include daily yoga practices\, nature-based belonging practices\, shared stories and reflections\, and unstructured time outdoors. The rhythm is designed to support nervous system regulation\, authentic connection\, and a felt sense of belonging to yourself\, to community\, and to the more-than-human world. \nOur Values \nRebelution Yoga + Wellness is a safe\, inclusive\, and affirming space. We welcome queer and trans folx across race\, body\, ability\, belief\, and lived experience. Belonging here does not require explanation or performance. You belong because you are here. \nDATES: September 24-27\, 2026LOCATION: Port Angeles\, WAINVESTMENT: $399-$999Come solo or with chosen family—either way\, you will be welcOMed with open hearts.\nSpace is very limited\, so please register ASAP. We hate having to turn participants away! \nLocals Option (no accommodations).   \n\n$399 per person.\n\nCar Camping \n\n$499 per person.\n\nForest Tent Sites.  \n\n$599 single occupancy.\n$499 double occupancy\, must provide your own tent-mate.\n\nCabins. \n\n$999 single occupancy (king size bed).\n$799 double occupancy\, must provide your own roommate.\n\nWhat IS included: \n\nDaily yoga practices\nPeninsula Adventures\n3 breakfasts + 3 lunches\n3 days/3 nights accommodation\nWrap-up Queer Joy dance party DJ’d by YOU!\nRound trip transportation to/from the Seattle airport (if needed).\n\nWhat is NOT included: \n\nIncidentals\nTravel expenses\nTravel Insurance\nDinners and adult bevvies (we will likely be eating dinners out on the town\, which is why we try to maintain very reasonable price points\, so please be prepared for this added expense).\nOptional activities: Included but not limited to paddleboard rental\, excursions to town\, wine tastings at one of our many local wineries and/or wine bars\, etc. I highly recommend planning extra time to explore the area!\n\n*Practices will be held outdoors\, so please bring a yoga mat and props you are willing to put down on the earth (or let us know if you need to borrow some). Towels\, blankets\, and yoga rugs are also completely acceptable options. \nRebelution Wellness is a safe and inclusive space. We welcome everyone regardless of race\, sex\,\nsexuality\, and religion. I am you\, you are me\, we are one. WelcOMe to the Rebelution.
URL:https://rebelutionyoga.com/event/belonging-a-queer-retreat/
ATTACH;FMTTYPE=image/jpeg:https://rebelutionyoga.com/wp-content/uploads/2026/01/istockphoto-1374561567-612x612-1.jpg
END:VEVENT
END:VCALENDAR